Package: fmcsR Version: 1.49.0 Command: /home/rapidbuild/bbs-3.21-bioc-rapid/R/bin/R CMD INSTALL fmcsR StartedAt: 2025-02-05 06:16:19 -0500 (Wed, 05 Feb 2025) EndedAt: 2025-02-05 06:16:37 -0500 (Wed, 05 Feb 2025) EllapsedTime: 18.5 seconds RetCode: 0 Status: OK