Package: fmcsR Version: 1.49.0 Command: /home/rapidbuild/bbs-3.21-bioc-rapid/R/bin/R CMD check --install=check:fmcsR.install-out.txt --library=/home/rapidbuild/bbs-3.21-bioc-rapid/R/site-library --timings fmcsR_1.49.0.tar.gz StartedAt: 2025-02-05 08:39:47 -0500 (Wed, 05 Feb 2025) EndedAt: 2025-02-05 08:41:09 -0500 (Wed, 05 Feb 2025) EllapsedTime: 82.0 seconds RetCode: 0 Status: WARNINGS CheckDir: fmcsR.Rcheck Warnings: 1