Package: flowWorkspace Version: 4.19.0 Command: /home/rapidbuild/bbs-3.21-bioc-rapid/R/bin/R CMD INSTALL flowWorkspace StartedAt: 2025-02-05 06:15:10 -0500 (Wed, 05 Feb 2025) EndedAt: 2025-02-05 06:17:12 -0500 (Wed, 05 Feb 2025) EllapsedTime: 121.9 seconds RetCode: 0 Status: OK