Package: flowWorkspace Version: 4.19.0 Command: /home/rapidbuild/bbs-3.21-bioc-rapid/R/bin/R CMD check --install=check:flowWorkspace.install-out.txt --library=/home/rapidbuild/bbs-3.21-bioc-rapid/R/site-library --timings flowWorkspace_4.19.0.tar.gz StartedAt: 2025-02-05 08:37:31 -0500 (Wed, 05 Feb 2025) EndedAt: 2025-02-05 08:40:35 -0500 (Wed, 05 Feb 2025) EllapsedTime: 183.7 seconds RetCode: 0 Status: WARNINGS CheckDir: flowWorkspace.Rcheck Warnings: 5