Package: flowWorkspace Version: 4.19.0 Command: /home/rapidbuild/bbs-3.21-bioc-rapid/R/bin/R CMD build --keep-empty-dirs --no-resave-data flowWorkspace StartedAt: 2025-02-05 06:54:26 -0500 (Wed, 05 Feb 2025) EndedAt: 2025-02-05 06:56:56 -0500 (Wed, 05 Feb 2025) EllapsedTime: 150.3 seconds RetCode: 0 Status: OK PackageFile: flowWorkspace_4.19.0.tar.gz PackageFileSize: 5.081 MiB