Package: flowViz Version: 1.73.0 Command: /home/rapidbuild/bbs-3.22-bioc-rapid/R/bin/R CMD build --keep-empty-dirs --no-resave-data flowViz StartedAt: 2025-05-09 06:49:40 -0400 (Fri, 09 May 2025) EndedAt: 2025-05-09 06:50:34 -0400 (Fri, 09 May 2025) EllapsedTime: 54.6 seconds RetCode: 0 Status: OK PackageFile: flowViz_1.73.0.tar.gz PackageFileSize: 989.7 KiB