Package: flowStats Version: 4.19.0 Command: /home/rapidbuild/bbs-3.21-bioc-rapid/R/bin/R CMD check --install=check:flowStats.install-out.txt --library=/home/rapidbuild/bbs-3.21-bioc-rapid/R/site-library --timings flowStats_4.19.0.tar.gz StartedAt: 2025-02-05 08:36:16 -0500 (Wed, 05 Feb 2025) EndedAt: 2025-02-05 08:39:47 -0500 (Wed, 05 Feb 2025) EllapsedTime: 210.7 seconds RetCode: 0 Status: WARNINGS CheckDir: flowStats.Rcheck Warnings: 4