Package: flowStats Version: 4.19.0 Command: /home/rapidbuild/bbs-3.21-bioc-rapid/R/bin/R CMD build --keep-empty-dirs --no-resave-data flowStats StartedAt: 2025-02-05 06:53:38 -0500 (Wed, 05 Feb 2025) EndedAt: 2025-02-05 06:54:54 -0500 (Wed, 05 Feb 2025) EllapsedTime: 75.8 seconds RetCode: 0 Status: OK PackageFile: flowStats_4.19.0.tar.gz PackageFileSize: 10.96 MiB