Package: flowCore Version: 2.19.0 Command: /home/rapidbuild/bbs-3.21-bioc-rapid/R/bin/R CMD INSTALL flowCore StartedAt: 2025-02-10 06:13:15 -0500 (Mon, 10 Feb 2025) EndedAt: 2025-02-10 06:13:51 -0500 (Mon, 10 Feb 2025) EllapsedTime: 36.2 seconds RetCode: 0 Status: OK