Package: flowCore Version: 2.19.0 Command: /home/rapidbuild/bbs-3.21-bioc-rapid/R/bin/R CMD build --keep-empty-dirs --no-resave-data flowCore StartedAt: 2025-02-05 06:53:18 -0500 (Wed, 05 Feb 2025) EndedAt: 2025-02-05 06:54:25 -0500 (Wed, 05 Feb 2025) EllapsedTime: 67.6 seconds RetCode: 0 Status: OK PackageFile: flowCore_2.19.0.tar.gz PackageFileSize: 7.454 MiB