Package: flowClust Version: 3.45.0 Command: /home/rapidbuild/bbs-3.21-bioc-rapid/R/bin/R CMD INSTALL flowClust StartedAt: 2025-02-10 06:13:54 -0500 (Mon, 10 Feb 2025) EndedAt: 2025-02-10 06:15:42 -0500 (Mon, 10 Feb 2025) EllapsedTime: 108.5 seconds RetCode: 0 Status: OK