Package: flowClust Version: 3.45.0 Command: /home/rapidbuild/bbs-3.21-bioc-rapid/R/bin/R CMD build --keep-empty-dirs --no-resave-data flowClust StartedAt: 2025-02-10 06:53:43 -0500 (Mon, 10 Feb 2025) EndedAt: 2025-02-10 06:55:21 -0500 (Mon, 10 Feb 2025) EllapsedTime: 98.0 seconds RetCode: 0 Status: OK PackageFile: flowClust_3.45.0.tar.gz PackageFileSize: 1.727 MiB