Package: fishpond Version: 2.13.0 Command: /home/rapidbuild/bbs-3.21-bioc-rapid/R/bin/R CMD build --keep-empty-dirs --no-resave-data fishpond StartedAt: 2025-02-10 06:52:48 -0500 (Mon, 10 Feb 2025) EndedAt: 2025-02-10 06:56:01 -0500 (Mon, 10 Feb 2025) EllapsedTime: 192.8 seconds RetCode: 0 Status: OK PackageFile: fishpond_2.13.0.tar.gz PackageFileSize: 3.915 MiB