Package: fgsea Version: 1.35.0 Command: /home/rapidbuild/bbs-3.22-bioc-rapid/R/bin/R CMD check --install=check:fgsea.install-out.txt --library=/home/rapidbuild/bbs-3.22-bioc-rapid/R/site-library --timings fgsea_1.35.0.tar.gz StartedAt: 2025-04-28 08:15:12 -0400 (Mon, 28 Apr 2025) EndedAt: 2025-04-28 08:27:41 -0400 (Mon, 28 Apr 2025) EllapsedTime: 748.5 seconds RetCode: 0 Status: OK CheckDir: fgsea.Rcheck Warnings: 0