Package: ensembldb Version: 2.31.0 Command: /home/rapidbuild/bbs-3.21-bioc-rapid/R/bin/R CMD check --install=check:ensembldb.install-out.txt --library=/home/rapidbuild/bbs-3.21-bioc-rapid/R/site-library --timings ensembldb_2.31.0.tar.gz StartedAt: 2025-02-10 08:31:40 -0500 (Mon, 10 Feb 2025) EndedAt: 2025-02-10 08:45:40 -0500 (Mon, 10 Feb 2025) EllapsedTime: 839.5 seconds RetCode: 0 Status: OK CheckDir: ensembldb.Rcheck Warnings: 0