Package: enrichplot Version: 1.27.4 Command: /home/rapidbuild/bbs-3.21-bioc-rapid/R/bin/R CMD build --keep-empty-dirs --no-resave-data enrichplot StartedAt: 2025-02-05 06:48:01 -0500 (Wed, 05 Feb 2025) EndedAt: 2025-02-05 06:48:21 -0500 (Wed, 05 Feb 2025) EllapsedTime: 20.0 seconds RetCode: 0 Status: OK PackageFile: enrichplot_1.27.4.tar.gz PackageFileSize: 96.5 KiB