Package: eds Version: 1.9.0 Command: /home/rapidbuild/bbs-3.21-bioc-rapid/R/bin/R CMD INSTALL eds StartedAt: 2025-02-05 06:07:59 -0500 (Wed, 05 Feb 2025) EndedAt: 2025-02-05 06:08:08 -0500 (Wed, 05 Feb 2025) EllapsedTime: 9.0 seconds RetCode: 0 Status: OK