Package: eds Version: 1.9.0 Command: /home/rapidbuild/bbs-3.21-bioc-rapid/R/bin/R CMD build --keep-empty-dirs --no-resave-data eds StartedAt: 2025-02-05 06:47:27 -0500 (Wed, 05 Feb 2025) EndedAt: 2025-02-05 06:47:40 -0500 (Wed, 05 Feb 2025) EllapsedTime: 12.3 seconds RetCode: 0 Status: OK PackageFile: eds_1.9.0.tar.gz PackageFileSize: 217.4 KiB