Package: edgeR Version: 4.5.2 Command: /home/rapidbuild/bbs-3.21-bioc-rapid/R/bin/R CMD INSTALL edgeR StartedAt: 2025-02-05 06:08:20 -0500 (Wed, 05 Feb 2025) EndedAt: 2025-02-05 06:08:29 -0500 (Wed, 05 Feb 2025) EllapsedTime: 9.2 seconds RetCode: 0 Status: OK