Package: edgeR Version: 4.5.2 Command: /home/rapidbuild/bbs-3.21-bioc-rapid/R/bin/R CMD check --install=check:edgeR.install-out.txt --library=/home/rapidbuild/bbs-3.21-bioc-rapid/R/site-library --timings edgeR_4.5.2.tar.gz StartedAt: 2025-02-05 08:22:51 -0500 (Wed, 05 Feb 2025) EndedAt: 2025-02-05 08:24:15 -0500 (Wed, 05 Feb 2025) EllapsedTime: 83.7 seconds RetCode: 0 Status: OK CheckDir: edgeR.Rcheck Warnings: 0