Package: dir.expiry Version: 1.15.0 Command: /home/rapidbuild/bbs-3.21-bioc-rapid/R/bin/R CMD check --install=check:dir.expiry.install-out.txt --library=/home/rapidbuild/bbs-3.21-bioc-rapid/R/site-library --timings dir.expiry_1.15.0.tar.gz StartedAt: 2025-02-05 08:17:39 -0500 (Wed, 05 Feb 2025) EndedAt: 2025-02-05 08:17:59 -0500 (Wed, 05 Feb 2025) EllapsedTime: 20.0 seconds RetCode: 0 Status: OK CheckDir: dir.expiry.Rcheck Warnings: 0