Package: dir.expiry Version: 1.15.0 Command: /home/rapidbuild/bbs-3.21-bioc-rapid/R/bin/R CMD build --keep-empty-dirs --no-resave-data dir.expiry StartedAt: 2025-02-05 06:45:15 -0500 (Wed, 05 Feb 2025) EndedAt: 2025-02-05 06:45:22 -0500 (Wed, 05 Feb 2025) EllapsedTime: 7.0 seconds RetCode: 0 Status: OK PackageFile: dir.expiry_1.15.0.tar.gz PackageFileSize: 301.3 KiB