Package: densvis Version: 1.17.0 Command: /home/rapidbuild/bbs-3.21-bioc-rapid/R/bin/R CMD check --install=check:densvis.install-out.txt --library=/home/rapidbuild/bbs-3.21-bioc-rapid/R/site-library --timings densvis_1.17.0.tar.gz StartedAt: 2025-02-05 08:17:25 -0500 (Wed, 05 Feb 2025) EndedAt: 2025-02-05 08:20:15 -0500 (Wed, 05 Feb 2025) EllapsedTime: 169.4 seconds RetCode: 0 Status: OK CheckDir: densvis.Rcheck Warnings: 0