Package: densvis Version: 1.17.0 Command: /home/rapidbuild/bbs-3.21-bioc-rapid/R/bin/R CMD build --keep-empty-dirs --no-resave-data densvis StartedAt: 2025-02-10 06:45:26 -0500 (Mon, 10 Feb 2025) EndedAt: 2025-02-10 06:47:20 -0500 (Mon, 10 Feb 2025) EllapsedTime: 114.7 seconds RetCode: 0 Status: OK PackageFile: densvis_1.17.0.tar.gz PackageFileSize: 1.674 MiB