Package: cytolib Version: 2.19.3 Command: /home/rapidbuild/bbs-3.21-bioc-rapid/R/bin/R CMD INSTALL cytolib StartedAt: 2025-02-06 06:10:13 -0500 (Thu, 06 Feb 2025) EndedAt: 2025-02-06 06:12:33 -0500 (Thu, 06 Feb 2025) EllapsedTime: 140.0 seconds RetCode: 0 Status: OK