Package: csaw Version: 1.41.2 Command: /home/rapidbuild/bbs-3.21-bioc-rapid/R/bin/R CMD check --install=check:csaw.install-out.txt --library=/home/rapidbuild/bbs-3.21-bioc-rapid/R/site-library --timings csaw_1.41.2.tar.gz StartedAt: 2025-02-11 08:21:42 -0500 (Tue, 11 Feb 2025) EndedAt: 2025-02-11 08:28:26 -0500 (Tue, 11 Feb 2025) EllapsedTime: 403.7 seconds RetCode: 0 Status: OK CheckDir: csaw.Rcheck Warnings: 0