Package: csaw Version: 1.41.2 Command: /home/rapidbuild/bbs-3.21-bioc-rapid/R/bin/R CMD build --keep-empty-dirs --no-resave-data csaw StartedAt: 2025-02-11 06:40:54 -0500 (Tue, 11 Feb 2025) EndedAt: 2025-02-11 06:42:16 -0500 (Tue, 11 Feb 2025) EllapsedTime: 82.0 seconds RetCode: 0 Status: OK PackageFile: csaw_1.41.2.tar.gz PackageFileSize: 389.3 KiB