Package: clusterProfiler Version: 4.15.1 Command: /home/rapidbuild/bbs-3.21-bioc-rapid/R/bin/R CMD INSTALL clusterProfiler StartedAt: 2025-02-15 12:25:03 -0500 (Sat, 15 Feb 2025) EndedAt: 2025-02-15 12:25:22 -0500 (Sat, 15 Feb 2025) EllapsedTime: 19.0 seconds RetCode: 0 Status: OK