Package: clusterProfiler Version: 4.15.1 Command: /home/rapidbuild/bbs-3.21-bioc-rapid/R/bin/R CMD check --install=check:clusterProfiler.install-out.txt --library=/home/rapidbuild/bbs-3.21-bioc-rapid/R/site-library --timings clusterProfiler_4.15.1.tar.gz StartedAt: 2025-02-15 14:00:26 -0500 (Sat, 15 Feb 2025) EndedAt: 2025-02-15 14:03:02 -0500 (Sat, 15 Feb 2025) EllapsedTime: 156.2 seconds RetCode: 0 Status: OK CheckDir: clusterProfiler.Rcheck Warnings: 0