Package: chihaya Version: 1.7.0 Command: /home/rapidbuild/bbs-3.21-bioc-rapid/R/bin/R CMD INSTALL chihaya StartedAt: 2025-02-11 06:13:51 -0500 (Tue, 11 Feb 2025) EndedAt: 2025-02-11 06:14:20 -0500 (Tue, 11 Feb 2025) EllapsedTime: 28.1 seconds RetCode: 0 Status: OK