Package: chihaya Version: 1.7.0 Command: /home/rapidbuild/bbs-3.21-bioc-rapid/R/bin/R CMD build --keep-empty-dirs --no-resave-data chihaya StartedAt: 2025-02-11 06:39:52 -0500 (Tue, 11 Feb 2025) EndedAt: 2025-02-11 06:40:54 -0500 (Tue, 11 Feb 2025) EllapsedTime: 61.3 seconds RetCode: 0 Status: OK PackageFile: chihaya_1.7.0.tar.gz PackageFileSize: 258.3 KiB