Package: bluster Version: 1.17.0 Command: /home/rapidbuild/bbs-3.21-bioc-rapid/R/bin/R CMD INSTALL bluster StartedAt: 2025-02-06 06:17:00 -0500 (Thu, 06 Feb 2025) EndedAt: 2025-02-06 06:17:20 -0500 (Thu, 06 Feb 2025) EllapsedTime: 19.7 seconds RetCode: 0 Status: OK