Package: bluster Version: 1.19.0 Command: /home/rapidbuild/bbs-3.22-bioc-rapid/R/bin/R CMD check --install=check:bluster.install-out.txt --library=/home/rapidbuild/bbs-3.22-bioc-rapid/R/site-library --timings bluster_1.19.0.tar.gz StartedAt: 2025-04-30 07:54:06 -0400 (Wed, 30 Apr 2025) EndedAt: 2025-04-30 07:57:11 -0400 (Wed, 30 Apr 2025) EllapsedTime: 185.3 seconds RetCode: 0 Status: OK CheckDir: bluster.Rcheck Warnings: 0