Package: bluster Version: 1.19.0 Command: /home/rapidbuild/bbs-3.22-bioc-rapid/R/bin/R CMD build --keep-empty-dirs --no-resave-data bluster StartedAt: 2025-04-30 06:35:54 -0400 (Wed, 30 Apr 2025) EndedAt: 2025-04-30 06:37:24 -0400 (Wed, 30 Apr 2025) EllapsedTime: 90.8 seconds RetCode: 0 Status: OK PackageFile: bluster_1.19.0.tar.gz PackageFileSize: 3.102 MiB