Package: biovizBase Version: 1.55.0 Command: /home/rapidbuild/bbs-3.21-bioc-rapid/R/bin/R CMD INSTALL biovizBase StartedAt: 2025-02-05 06:26:59 -0500 (Wed, 05 Feb 2025) EndedAt: 2025-02-05 06:27:38 -0500 (Wed, 05 Feb 2025) EllapsedTime: 38.8 seconds RetCode: 0 Status: OK