Package: biovizBase Version: 1.55.0 Command: /home/rapidbuild/bbs-3.21-bioc-rapid/R/bin/R CMD build --keep-empty-dirs --no-resave-data biovizBase StartedAt: 2025-02-05 06:38:07 -0500 (Wed, 05 Feb 2025) EndedAt: 2025-02-05 06:39:06 -0500 (Wed, 05 Feb 2025) EllapsedTime: 58.9 seconds RetCode: 0 Status: OK PackageFile: biovizBase_1.55.0.tar.gz PackageFileSize: 2.397 MiB