Package: biomformat Version: 1.35.0 Command: /home/rapidbuild/bbs-3.21-bioc-rapid/R/bin/R CMD INSTALL biomformat StartedAt: 2025-02-05 06:09:12 -0500 (Wed, 05 Feb 2025) EndedAt: 2025-02-05 06:09:19 -0500 (Wed, 05 Feb 2025) EllapsedTime: 6.2 seconds RetCode: 0 Status: OK