Package: biomformat Version: 1.35.0 Command: /home/rapidbuild/bbs-3.21-bioc-rapid/R/bin/R CMD build --keep-empty-dirs --no-resave-data biomformat StartedAt: 2025-02-10 06:39:54 -0500 (Mon, 10 Feb 2025) EndedAt: 2025-02-10 06:40:05 -0500 (Mon, 10 Feb 2025) EllapsedTime: 10.3 seconds RetCode: 0 Status: OK PackageFile: biomformat_1.35.0.tar.gz PackageFileSize: 338.1 KiB