Package: biomaRt Version: 2.63.1 Command: /home/rapidbuild/bbs-3.21-bioc-rapid/R/bin/R CMD INSTALL biomaRt StartedAt: 2025-02-05 06:21:45 -0500 (Wed, 05 Feb 2025) EndedAt: 2025-02-05 06:21:59 -0500 (Wed, 05 Feb 2025) EllapsedTime: 14.5 seconds RetCode: 0 Status: OK