Package: biomaRt Version: 2.63.1 Command: /home/rapidbuild/bbs-3.21-bioc-rapid/R/bin/R CMD check --install=check:biomaRt.install-out.txt --library=/home/rapidbuild/bbs-3.21-bioc-rapid/R/site-library --timings biomaRt_2.63.1.tar.gz StartedAt: 2025-02-05 08:03:58 -0500 (Wed, 05 Feb 2025) EndedAt: 2025-02-05 08:07:46 -0500 (Wed, 05 Feb 2025) EllapsedTime: 228.4 seconds RetCode: 0 Status: OK CheckDir: biomaRt.Rcheck Warnings: 0