Package: biomaRt Version: 2.63.1 Command: /home/rapidbuild/bbs-3.21-bioc-rapid/R/bin/R CMD build --keep-empty-dirs --no-resave-data biomaRt StartedAt: 2025-02-05 06:37:18 -0500 (Wed, 05 Feb 2025) EndedAt: 2025-02-05 06:39:05 -0500 (Wed, 05 Feb 2025) EllapsedTime: 107.6 seconds RetCode: 0 Status: OK PackageFile: biomaRt_2.63.1.tar.gz PackageFileSize: 843.3 KiB