Package: biocthis Version: 1.17.0 Command: /home/rapidbuild/bbs-3.21-bioc-rapid/R/bin/R CMD INSTALL biocthis StartedAt: 2025-02-05 06:15:02 -0500 (Wed, 05 Feb 2025) EndedAt: 2025-02-05 06:15:06 -0500 (Wed, 05 Feb 2025) EllapsedTime: 3.3 seconds RetCode: 0 Status: OK