Package: biocthis Version: 1.17.0 Command: /home/rapidbuild/bbs-3.21-bioc-rapid/R/bin/R CMD check --install=check:biocthis.install-out.txt --library=/home/rapidbuild/bbs-3.21-bioc-rapid/R/site-library --timings biocthis_1.17.0.tar.gz StartedAt: 2025-02-05 08:03:12 -0500 (Wed, 05 Feb 2025) EndedAt: 2025-02-05 08:03:53 -0500 (Wed, 05 Feb 2025) EllapsedTime: 41.3 seconds RetCode: 0 Status: OK CheckDir: biocthis.Rcheck Warnings: 0