Package: biocthis Version: 1.17.0 Command: /home/rapidbuild/bbs-3.21-bioc-rapid/R/bin/R CMD build --keep-empty-dirs --no-resave-data biocthis StartedAt: 2025-02-05 06:36:41 -0500 (Wed, 05 Feb 2025) EndedAt: 2025-02-05 06:37:00 -0500 (Wed, 05 Feb 2025) EllapsedTime: 19.0 seconds RetCode: 0 Status: OK PackageFile: biocthis_1.17.0.tar.gz PackageFileSize: 658.1 KiB