Package: beachmat Version: 2.23.6 Command: /home/rapidbuild/bbs-3.21-bioc-rapid/R/bin/R CMD build --keep-empty-dirs --no-resave-data beachmat StartedAt: 2025-02-05 06:33:01 -0500 (Wed, 05 Feb 2025) EndedAt: 2025-02-05 06:38:07 -0500 (Wed, 05 Feb 2025) EllapsedTime: 305.4 seconds RetCode: 0 Status: OK PackageFile: beachmat_2.23.6.tar.gz PackageFileSize: 368.6 KiB