Package: beachmat.hdf5 Version: 1.5.1 Command: /home/rapidbuild/bbs-3.21-bioc-rapid/R/bin/R CMD INSTALL beachmat.hdf5 StartedAt: 2025-02-15 12:19:04 -0500 (Sat, 15 Feb 2025) EndedAt: 2025-02-15 12:20:01 -0500 (Sat, 15 Feb 2025) EllapsedTime: 56.7 seconds RetCode: 0 Status: OK