Package: beachmat.hdf5 Version: 1.5.1 Command: /home/rapidbuild/bbs-3.21-bioc-rapid/R/bin/R CMD build --keep-empty-dirs --no-resave-data beachmat.hdf5 StartedAt: 2025-02-14 12:29:38 -0500 (Fri, 14 Feb 2025) EndedAt: 2025-02-14 12:30:35 -0500 (Fri, 14 Feb 2025) EllapsedTime: 57.9 seconds RetCode: 0 Status: OK PackageFile: beachmat.hdf5_1.5.1.tar.gz PackageFileSize: 297.3 KiB