Package: batchelor Version: 1.23.0 Command: /home/rapidbuild/bbs-3.21-bioc-rapid/R/bin/R CMD build --keep-empty-dirs --no-resave-data batchelor StartedAt: 2025-02-11 06:32:18 -0500 (Tue, 11 Feb 2025) EndedAt: 2025-02-11 06:35:11 -0500 (Tue, 11 Feb 2025) EllapsedTime: 172.9 seconds RetCode: 0 Status: OK PackageFile: batchelor_1.23.0.tar.gz PackageFileSize: 1.969 MiB