Package: basilisk Version: 1.19.0 Command: /home/rapidbuild/bbs-3.21-bioc-rapid/R/bin/R CMD check --install=check:basilisk.install-out.txt --library=/home/rapidbuild/bbs-3.21-bioc-rapid/R/site-library --timings basilisk_1.19.0.tar.gz StartedAt: 2025-02-10 08:00:34 -0500 (Mon, 10 Feb 2025) EndedAt: 2025-02-10 08:15:38 -0500 (Mon, 10 Feb 2025) EllapsedTime: 903.9 seconds RetCode: 0 Status: OK CheckDir: basilisk.Rcheck Warnings: 0