Package: basilisk Version: 1.19.0 Command: /home/rapidbuild/bbs-3.21-bioc-rapid/R/bin/R CMD build --keep-empty-dirs --no-resave-data basilisk StartedAt: 2025-02-10 06:34:29 -0500 (Mon, 10 Feb 2025) EndedAt: 2025-02-10 06:36:34 -0500 (Mon, 10 Feb 2025) EllapsedTime: 124.3 seconds RetCode: 0 Status: OK PackageFile: basilisk_1.19.0.tar.gz PackageFileSize: 263.6 KiB